BEGIN:VCALENDAR
VERSION:2.0
PRODID:-//Redeemer Lutheran Church - ECPv6.15.20//NONSGML v1.0//EN
CALSCALE:GREGORIAN
METHOD:PUBLISH
X-ORIGINAL-URL:https://wickenburgredeemer.org
X-WR-CALDESC:Events for Redeemer Lutheran Church
REFRESH-INTERVAL;VALUE=DURATION:PT1H
X-Robots-Tag:noindex
X-PUBLISHED-TTL:PT1H
BEGIN:VTIMEZONE
TZID:America/Phoenix
BEGIN:STANDARD
TZOFFSETFROM:-0700
TZOFFSETTO:-0700
TZNAME:MST
DTSTART:20250101T000000
END:STANDARD
END:VTIMEZONE
BEGIN:VEVENT
DTSTART;TZID=America/Phoenix:20260111T100000
DTEND;TZID=America/Phoenix:20260111T113000
DTSTAMP:20260422T061555
CREATED:20251230T185147Z
LAST-MODIFIED:20251230T185147Z
UID:27666-1768125600-1768131000@wickenburgredeemer.org
SUMMARY:Communion
DESCRIPTION:
URL:https://wickenburgredeemer.org/event/communion-68/
END:VEVENT
BEGIN:VEVENT
DTSTART;TZID=America/Phoenix:20260114T080000
DTEND;TZID=America/Phoenix:20260114T130000
DTSTAMP:20260422T061555
CREATED:20251230T185301Z
LAST-MODIFIED:20251230T185301Z
UID:27670-1768377600-1768395600@wickenburgredeemer.org
SUMMARY:Sewing
DESCRIPTION:
URL:https://wickenburgredeemer.org/event/sewing-90/
END:VEVENT
BEGIN:VEVENT
DTSTART;TZID=America/Phoenix:20260115T090000
DTEND;TZID=America/Phoenix:20260115T150000
DTSTAMP:20260422T061555
CREATED:20251230T185345Z
LAST-MODIFIED:20251230T185345Z
UID:27672-1768467600-1768489200@wickenburgredeemer.org
SUMMARY:VPP @ Annex
DESCRIPTION:
URL:https://wickenburgredeemer.org/event/vpp-annex-35/
END:VEVENT
BEGIN:VEVENT
DTSTART;TZID=America/Phoenix:20260118T083000
DTEND;TZID=America/Phoenix:20260118T093000
DTSTAMP:20260422T061555
CREATED:20260102T163426Z
LAST-MODIFIED:20260102T163426Z
UID:27676-1768725000-1768728600@wickenburgredeemer.org
SUMMARY:Bible class
DESCRIPTION:
URL:https://wickenburgredeemer.org/event/bible-class-14/
END:VEVENT
BEGIN:VEVENT
DTSTART;TZID=America/Phoenix:20260118T083000
DTEND;TZID=America/Phoenix:20260118T113000
DTSTAMP:20260422T061555
CREATED:20260102T163556Z
LAST-MODIFIED:20260102T163556Z
UID:27680-1768725000-1768735800@wickenburgredeemer.org
SUMMARY:Guest Pastor Jim Toma
DESCRIPTION:
URL:https://wickenburgredeemer.org/event/guest-pastor-jim-toma/
END:VEVENT
BEGIN:VEVENT
DTSTART;TZID=America/Phoenix:20260118T100000
DTEND;TZID=America/Phoenix:20260118T113000
DTSTAMP:20260422T061555
CREATED:20260102T163510Z
LAST-MODIFIED:20260102T163510Z
UID:27678-1768730400-1768735800@wickenburgredeemer.org
SUMMARY:Worship
DESCRIPTION:
URL:https://wickenburgredeemer.org/event/worship-3/
END:VEVENT
BEGIN:VEVENT
DTSTART;TZID=America/Phoenix:20260121T113000
DTEND;TZID=America/Phoenix:20260121T130000
DTSTAMP:20260422T061555
CREATED:20260102T163647Z
LAST-MODIFIED:20260102T163647Z
UID:27682-1768995000-1769000400@wickenburgredeemer.org
SUMMARY:Lutheran Women in Mission
DESCRIPTION:
URL:https://wickenburgredeemer.org/event/lutheran-women-in-mission-15/
END:VEVENT
BEGIN:VEVENT
DTSTART;TZID=America/Phoenix:20260123T173000
DTEND;TZID=America/Phoenix:20260123T190000
DTSTAMP:20260422T061555
CREATED:20260102T163744Z
LAST-MODIFIED:20260102T163744Z
UID:27684-1769189400-1769194800@wickenburgredeemer.org
SUMMARY:Chili Dinner @ Annex
DESCRIPTION:
URL:https://wickenburgredeemer.org/event/chili-dinner-annex-2/
END:VEVENT
BEGIN:VEVENT
DTSTART;TZID=America/Phoenix:20260125T083000
DTEND;TZID=America/Phoenix:20260125T093000
DTSTAMP:20260422T061555
CREATED:20260102T163832Z
LAST-MODIFIED:20260102T163832Z
UID:27686-1769329800-1769333400@wickenburgredeemer.org
SUMMARY:Bible class
DESCRIPTION:
URL:https://wickenburgredeemer.org/event/bible-class-15/
END:VEVENT
BEGIN:VEVENT
DTSTART;TZID=America/Phoenix:20260125T083000
DTEND;TZID=America/Phoenix:20260125T113000
DTSTAMP:20260422T061555
CREATED:20260102T163951Z
LAST-MODIFIED:20260102T163951Z
UID:27690-1769329800-1769340600@wickenburgredeemer.org
SUMMARY:Guest Pastor Tim Kane
DESCRIPTION:
URL:https://wickenburgredeemer.org/event/guest-pastor-tim-kane/
END:VEVENT
BEGIN:VEVENT
DTSTART;TZID=America/Phoenix:20260125T100000
DTEND;TZID=America/Phoenix:20260125T113000
DTSTAMP:20260422T061555
CREATED:20260102T163908Z
LAST-MODIFIED:20260102T163908Z
UID:27688-1769335200-1769340600@wickenburgredeemer.org
SUMMARY:Communion
DESCRIPTION:
URL:https://wickenburgredeemer.org/event/communion-69/
END:VEVENT
BEGIN:VEVENT
DTSTART;TZID=America/Phoenix:20260128T080000
DTEND;TZID=America/Phoenix:20260128T130000
DTSTAMP:20260422T061555
CREATED:20260102T164028Z
LAST-MODIFIED:20260102T164028Z
UID:27692-1769587200-1769605200@wickenburgredeemer.org
SUMMARY:Sewing
DESCRIPTION:
URL:https://wickenburgredeemer.org/event/sewing-91/
END:VEVENT
BEGIN:VEVENT
DTSTART;TZID=America/Phoenix:20260129T090000
DTEND;TZID=America/Phoenix:20260129T150000
DTSTAMP:20260422T061555
CREATED:20260102T164108Z
LAST-MODIFIED:20260102T164108Z
UID:27694-1769677200-1769698800@wickenburgredeemer.org
SUMMARY:VPP @ Annex
DESCRIPTION:
URL:https://wickenburgredeemer.org/event/vpp-annex-36/
END:VEVENT
BEGIN:VEVENT
DTSTART;TZID=America/Phoenix:20260221T100000
DTEND;TZID=America/Phoenix:20260221T113000
DTSTAMP:20260422T061555
CREATED:20260220T150357Z
LAST-MODIFIED:20260220T150357Z
UID:27748-1771668000-1771673400@wickenburgredeemer.org
SUMMARY:Men's / Women's Bible Study @ Annex
DESCRIPTION:
URL:https://wickenburgredeemer.org/event/mens-womens-bible-study-annex-6/
END:VEVENT
BEGIN:VEVENT
DTSTART;TZID=America/Phoenix:20260222T083000
DTEND;TZID=America/Phoenix:20260222T093000
DTSTAMP:20260422T061555
CREATED:20260220T150433Z
LAST-MODIFIED:20260220T150433Z
UID:27750-1771749000-1771752600@wickenburgredeemer.org
SUMMARY:Bible class
DESCRIPTION:
URL:https://wickenburgredeemer.org/event/bible-class-16/
END:VEVENT
BEGIN:VEVENT
DTSTART;TZID=America/Phoenix:20260222T100000
DTEND;TZID=America/Phoenix:20260222T113000
DTSTAMP:20260422T061555
CREATED:20260220T150518Z
LAST-MODIFIED:20260220T150518Z
UID:27752-1771754400-1771759800@wickenburgredeemer.org
SUMMARY:Worship service w/Communion
DESCRIPTION:
URL:https://wickenburgredeemer.org/event/worship-service-w-communion/
END:VEVENT
BEGIN:VEVENT
DTSTART;TZID=America/Phoenix:20260225T160000
DTEND;TZID=America/Phoenix:20260225T173000
DTSTAMP:20260422T061555
CREATED:20260220T150310Z
LAST-MODIFIED:20260220T150310Z
UID:27746-1772035200-1772040600@wickenburgredeemer.org
SUMMARY:Lent / Soup
DESCRIPTION:
URL:https://wickenburgredeemer.org/event/lent-soup-6/
END:VEVENT
BEGIN:VEVENT
DTSTART;TZID=America/Phoenix:20260301T083000
DTEND;TZID=America/Phoenix:20260301T093000
DTSTAMP:20260422T061555
CREATED:20260224T182159Z
LAST-MODIFIED:20260224T182159Z
UID:27759-1772353800-1772357400@wickenburgredeemer.org
SUMMARY:Bible class
DESCRIPTION:
URL:https://wickenburgredeemer.org/event/bible-class-17/
END:VEVENT
BEGIN:VEVENT
DTSTART;TZID=America/Phoenix:20260301T100000
DTEND;TZID=America/Phoenix:20260301T113000
DTSTAMP:20260422T061555
CREATED:20260224T182230Z
LAST-MODIFIED:20260224T184109Z
UID:27761-1772359200-1772364600@wickenburgredeemer.org
SUMMARY:Worship (Birthday Sunday)
DESCRIPTION:
URL:https://wickenburgredeemer.org/event/birthday-sunday-28/
END:VEVENT
BEGIN:VEVENT
DTSTART;TZID=America/Phoenix:20260301T160000
DTEND;TZID=America/Phoenix:20260301T170000
DTSTAMP:20260422T061555
CREATED:20260224T182125Z
LAST-MODIFIED:20260224T182125Z
UID:27757-1772380800-1772384400@wickenburgredeemer.org
SUMMARY:Sam Rotman concert
DESCRIPTION:
URL:https://wickenburgredeemer.org/event/sam-rotman-concert-2/
END:VEVENT
BEGIN:VEVENT
DTSTART;TZID=America/Phoenix:20260304T080000
DTEND;TZID=America/Phoenix:20260304T130000
DTSTAMP:20260422T061555
CREATED:20260224T182259Z
LAST-MODIFIED:20260224T182259Z
UID:27763-1772611200-1772629200@wickenburgredeemer.org
SUMMARY:Sewing
DESCRIPTION:
URL:https://wickenburgredeemer.org/event/sewing-92/
END:VEVENT
BEGIN:VEVENT
DTSTART;TZID=America/Phoenix:20260304T160000
DTEND;TZID=America/Phoenix:20260304T173000
DTSTAMP:20260422T061555
CREATED:20260224T182400Z
LAST-MODIFIED:20260224T182400Z
UID:27765-1772640000-1772645400@wickenburgredeemer.org
SUMMARY:Lenten service / Soup supper
DESCRIPTION:
URL:https://wickenburgredeemer.org/event/lenten-service-soup-supper-4/
END:VEVENT
BEGIN:VEVENT
DTSTART;TZID=America/Phoenix:20260307T140000
DTEND;TZID=America/Phoenix:20260307T160000
DTSTAMP:20260422T061555
CREATED:20260224T182455Z
LAST-MODIFIED:20260224T182455Z
UID:27767-1772892000-1772899200@wickenburgredeemer.org
SUMMARY:Joyce Linnerud celebration @ Annex
DESCRIPTION:
URL:https://wickenburgredeemer.org/event/joyce-linnerud-celebration-annex/
END:VEVENT
BEGIN:VEVENT
DTSTART;TZID=America/Phoenix:20260308T083000
DTEND;TZID=America/Phoenix:20260308T093000
DTSTAMP:20260422T061555
CREATED:20260224T182540Z
LAST-MODIFIED:20260224T182540Z
UID:27769-1772958600-1772962200@wickenburgredeemer.org
SUMMARY:Bible class
DESCRIPTION:
URL:https://wickenburgredeemer.org/event/bible-class-18/
END:VEVENT
BEGIN:VEVENT
DTSTART;TZID=America/Phoenix:20260308T100000
DTEND;TZID=America/Phoenix:20260308T113000
DTSTAMP:20260422T061555
CREATED:20260224T182740Z
LAST-MODIFIED:20260224T184202Z
UID:27771-1772964000-1772969400@wickenburgredeemer.org
SUMMARY:Worship w/Communion
DESCRIPTION:
URL:https://wickenburgredeemer.org/event/communion-70/
END:VEVENT
BEGIN:VEVENT
DTSTART;TZID=America/Phoenix:20260311T080000
DTEND;TZID=America/Phoenix:20260311T130000
DTSTAMP:20260422T061555
CREATED:20260224T182824Z
LAST-MODIFIED:20260224T182824Z
UID:27773-1773216000-1773234000@wickenburgredeemer.org
SUMMARY:Sewing
DESCRIPTION:
URL:https://wickenburgredeemer.org/event/sewing-93/
END:VEVENT
BEGIN:VEVENT
DTSTART;TZID=America/Phoenix:20260311T160000
DTEND;TZID=America/Phoenix:20260311T173000
DTSTAMP:20260422T061555
CREATED:20260224T182901Z
LAST-MODIFIED:20260224T182901Z
UID:27775-1773244800-1773250200@wickenburgredeemer.org
SUMMARY:Lenten service / Soup supper
DESCRIPTION:
URL:https://wickenburgredeemer.org/event/lenten-service-soup-supper-5/
END:VEVENT
BEGIN:VEVENT
DTSTART;TZID=America/Phoenix:20260312T090000
DTEND;TZID=America/Phoenix:20260312T100000
DTSTAMP:20260422T061555
CREATED:20260224T182936Z
LAST-MODIFIED:20260224T182936Z
UID:27777-1773306000-1773309600@wickenburgredeemer.org
SUMMARY:Elders meeting
DESCRIPTION:
URL:https://wickenburgredeemer.org/event/elders-meeting-20/
END:VEVENT
BEGIN:VEVENT
DTSTART;TZID=America/Phoenix:20260312T100000
DTEND;TZID=America/Phoenix:20260312T110000
DTSTAMP:20260422T061555
CREATED:20260224T183010Z
LAST-MODIFIED:20260224T183010Z
UID:27779-1773309600-1773313200@wickenburgredeemer.org
SUMMARY:Church Council
DESCRIPTION:
URL:https://wickenburgredeemer.org/event/church-council-27/
END:VEVENT
BEGIN:VEVENT
DTSTART;TZID=America/Phoenix:20260313T110000
DTEND;TZID=America/Phoenix:20260313T123000
DTSTAMP:20260422T061555
CREATED:20260224T183100Z
LAST-MODIFIED:20260224T183100Z
UID:27781-1773399600-1773405000@wickenburgredeemer.org
SUMMARY:Small Group
DESCRIPTION:
URL:https://wickenburgredeemer.org/event/small-group-4/
END:VEVENT
END:VCALENDAR