BEGIN:VCALENDAR
VERSION:2.0
PRODID:-//Redeemer Lutheran Church - ECPv6.15.20//NONSGML v1.0//EN
CALSCALE:GREGORIAN
METHOD:PUBLISH
X-ORIGINAL-URL:https://wickenburgredeemer.org
X-WR-CALDESC:Events for Redeemer Lutheran Church
REFRESH-INTERVAL;VALUE=DURATION:PT1H
X-Robots-Tag:noindex
X-PUBLISHED-TTL:PT1H
BEGIN:VTIMEZONE
TZID:America/Phoenix
BEGIN:STANDARD
TZOFFSETFROM:-0700
TZOFFSETTO:-0700
TZNAME:MST
DTSTART:20240101T000000
END:STANDARD
END:VTIMEZONE
BEGIN:VEVENT
DTSTART;TZID=America/Phoenix:20251031T173000
DTEND;TZID=America/Phoenix:20251031T183000
DTSTAMP:20260423T001415
CREATED:20250930T194836Z
LAST-MODIFIED:20250930T194837Z
UID:27289-1761931800-1761935400@wickenburgredeemer.org
SUMMARY:Wickenburg Redeemer Lutheran Church Oktoberfest 2025
DESCRIPTION:
URL:https://wickenburgredeemer.org/event/wickenburg-redeemer-lutheran-church-oktoberfest-2025/
LOCATION:Redeemer Annex\, 470 Rose Ln\, Wickenburg\, AZ\, 85390\, United States
CATEGORIES:Redeemer Event
ATTACH;FMTTYPE=image/png:https://wickenburgredeemer.org/wp-content/uploads/2025/09/Oktoberfest-2025.png
END:VEVENT
END:VCALENDAR