BEGIN:VCALENDAR
VERSION:2.0
PRODID:-//Redeemer Lutheran Church - ECPv6.15.20//NONSGML v1.0//EN
CALSCALE:GREGORIAN
METHOD:PUBLISH
X-WR-CALNAME:Redeemer Lutheran Church
X-ORIGINAL-URL:https://wickenburgredeemer.org
X-WR-CALDESC:Events for Redeemer Lutheran Church
REFRESH-INTERVAL;VALUE=DURATION:PT1H
X-Robots-Tag:noindex
X-PUBLISHED-TTL:PT1H
BEGIN:VTIMEZONE
TZID:America/Phoenix
BEGIN:STANDARD
TZOFFSETFROM:-0700
TZOFFSETTO:-0700
TZNAME:MST
DTSTART:20250101T000000
END:STANDARD
END:VTIMEZONE
BEGIN:VEVENT
DTSTART;TZID=America/Phoenix:20260424T083000
DTEND;TZID=America/Phoenix:20260424T093000
DTSTAMP:20260424T143725
CREATED:20260424T173303Z
LAST-MODIFIED:20260424T173303Z
UID:27890-1777019400-1777023000@wickenburgredeemer.org
SUMMARY:Bible class
DESCRIPTION:
URL:https://wickenburgredeemer.org/event/bible-class-23/
END:VEVENT
END:VCALENDAR